Workbook
Name Allocators: #REF!
Name COS_RES_CUSTOMERS: #REF!
Name COS_RES_KWH: #REF!
Name EBNUMBER: #REF!
Name forecast_wholesale_lineplus: #REF!
Name forecast_wholesale_network: #REF!
Name G1LD: #REF!
Name LDCList: OFFSET(#REF!,0,0,COUNTA(#REF!),1)
Name LDCNAME1: #REF!
Name listdata: #REF!
Name Newmarket_SA: #REF!
Name Rate_Riders: #REF!
Name RateRiderName: OFFSET(#REF!,1,0,COUNTA(#REF!)-1,1)
Name Shirley: #REF!
Name Total_Current_Wholesale_Lineplus: #REF!
Name total_current_wholesale_network: #REF!
Name Units: #REF!
Name UOM: #REF!
Name YRS_LEFT: #REF!

Sheet RESIDENTIAL
N1: 2 | O1: 0 | V1: 2 | W1: 5 | AC1: 2 | AD1: 5 | AJ1: 2 | AK1: 5
B10: Appendix 2-W
B11: Bill Impacts
B14: Customer Class: | D14: RESIDENTIAL SERVICE
B16: TOU / non-TOU: | D16: TOU
D18: Consumption | G18: 750 | H18: kWh
G20: 2026 OEB-Approved | K20: 2027 Proposed | O20: Impact
D21: Charge Unit | G21: Rate | H21: Volume | I21: Charge | K21: Rate | L21: Volume | M21: Charge | O21: $ Change | P21: % Change
G22: ($) | I22: ($) | K22: ($) | M22: ($)
B23: Service Charge | D23: per 30 days | G23: 51.18 | H23: 1 | I23: =H23*G23 -> 51.18 | K23: 53 | L23: 1 | M23: =L23*K23 -> 53 | O23: =M23-I23 -> 1.82 | P23: =IF(OR(I23=0,M23=0),"",(O23/I23)) -> 0.035560766
B24: Rate Rider for Disposition of Wireline Pole Attachment Revenue - effective until December 31, 2029 | D24: per 30 days | G24: 0.04 | H24: 1 | I24: =H24*G24 -> 0.04 | K24: 0.04 | L24: 1 | M24: =L24*K24 -> 0.04 | O24: =M24-I24 -> 0 | P24: =IF(OR(I24=0,M24=0),"",(O24/I24)) -> 0
B25: Rate Rider for Disposition of Externally Driven Capital Variance Account - effective until December 31, 2029 | D25: per 30 days | G25: 0 | H25: 1 | I25: =H25*G25 -> 0 | K25: 0.16 | L25: 1 | M25: =L25*K25 -> 0.16 | O25: =M25-I25 -> 0.16 | P25: =IF(OR(I25=0,M25=0),"",(O25/I25))
B26: Rate Rider for Disposition of Wireless Pole Attachment Revenue - effective until December 31, 2029 | D26: per 30 days | G26: -0.03 | H26: 1 | I26: =H26*G26 -> -0.03 | K26: -0.03 | L26: 1 | M26: =L26*K26 -> -0.03 | O26: =M26-I26 -> 0 | P26: =IF(OR(I26=0,M26=0),"",(O26/I26)) -> 0
B27: Rate Rider for Disposition of Change in Useful Life of Asset (2025) - effective until December 31, 2026 | D27: per 30 days | G27: -1.41 | H27: 1 | I27: =H27*G27 -> -1.41 | K27: 0 | L27: 1 | M27: =L27*K27 -> 0 | O27: =M27-I27 -> 1.41 | P27: =IF(OR(I27=0,M27=0),"",(O27/I27))
B28: Rate Rider for Disposition of Change in Useful Life of Assets (2025) - effective until December 31, 2028 | D28: per 30 days | G28: -0.34 | H28: 1 | I28: =H28*G28 -> -0.34 | K28: -0.34 | L28: 1 | M28: =L28*K28 -> -0.34 | O28: =M28-I28 -> 0 | P28: =IF(OR(I28=0,M28=0),"",(O28/I28)) -> 0
B29: Rate Rider for Disposition of Change in Useful Life of Assets (2026) - effective until December 31, 2028 | D29: per 30 days | G29: -0.99 | H29: 1 | I29: =H29*G29 -> -0.99 | K29: -0.99 | L29: 1 | M29: =L29*K29 -> -0.99 | O29: =M29-I29 -> 0 | P29: =IF(OR(I29=0,M29=0),"",(O29/I29)) -> 0
B30: Rate Rider for Disposition of Revenue Variance Account (2025) - effective until December 31, 2027 - Interim | D30: per 30 days | G30: 0 | H30: 1 | I30: =H30*G30 -> 0 | K30: -1.1 | L30: 1 | M30: =L30*K30 -> -1.1 | O30: =M30-I30 -> -1.1 | P30: =IF(OR(I30=0,M30=0),"",(O30/I30))
B31: Sub-Total A (excluding pass through) | I31: =SUM(I23:I30) -> 48.45 | M31: =SUM(M23:M30) -> 50.74 | O31: =M31-I31 -> 2.29 | P31: =IF(OR(I31=0,M31=0),"",(O31/I31)) -> 0.047265222
B32: Line Losses on Cost of Power | D32: per kWh | G32: =IF(ISBLANK($D16)=TRUE, 0, IF($D16="TOU", $D$270*G45+$D$271*G46+$D$272*G47, IF(AND($D16="non-TOU", H49>0), G49,G48))) -> 0.12752 | H32: =$G$18*(1+G59)-$G$18 -> 22.125 | I32: =H32*G32 -> 2.82138 | K32: =IF(ISBLANK($D16)=TRUE, 0, IF($D16="TOU", $D$270*K45+$D$271*K46+$D$272*K47, IF(AND($D16="non-TOU", L49>0), K49,K48))) -> 0.12752 | L32: =$G$18*(1+K59)-$G$18 -> 22.125 | M32: =L32*K32 -> 2.82138 | O32: =M32-I32 -> 0 | P32: =IF(OR(I32=0,M32=0),"",(O32/I32)) -> 0
B33: Rate Rider for Disposition of Deferral/Variance Accounts - effective until December 31, 2027 | D33: per kWh | G33: 0.00112 | H33: =+$G$18 -> 750 | I33: =H33*G33 -> 0.84 | K33: -0.00107 | L33: =+$G$18 -> 750 | M33: =L33*K33 -> -0.8025 | O33: =M33-I33 -> -1.6425 | P33: =IF(OR(I33=0,M33=0),"",(O33/I33)) -> -1.9553571
B34: Rate Rider for Disposition of Capacity Based Recovery Account - Applicable only for Class B Customers - effective until December 31, 2027 | D34: per kWh | G34: 0.00048 | H34: =+$G$18 -> 750 | I34: =H34*G34 -> 0.36 | K34: 0.00052 | L34: =+$G$18 -> 750 | M34: =L34*K34 -> 0.39 | O34: =M34-I34 -> 0.03 | P34: =IF(OR(I34=0,M34=0),"",(O34/I34)) -> 0.083333333
B35: Rate Rider for Disposition of Global Adjustment Account - Applicable only for Non-RPP Customers - effective until December 31, 2027 | D35: per kWh | G35: 0.00508 | I35: =H35*G35 -> 0 | K35: -0.00595 | M35: =L35*K35 -> 0 | O35: =M35-I35 -> 0 | P35: =IF(OR(I35=0,M35=0),"",(O35/I35))
B36: Rate Rider for Smart Metering Entity Charge - effective until December 31, 2029 | D36: per 30 days | G36: 0.41 | H36: 1 | I36: =H36*G36 -> 0.41 | K36: 0.41 | L36: 1 | M36: =L36*K36 -> 0.41 | O36: =M36-I36 -> 0 | P36: =IF(OR(I36=0,M36=0),"",(O36/I36)) -> 0
B37: Sub-Total B - Distribution (includes Sub-Total A) | I37: =SUM(I32:I36)+I31 -> 52.88138 | M37: =SUM(M32:M36)+M31 -> 53.55888 | O37: =M37-I37 -> 0.6775 | P37: =IF(OR(I37=0,M37=0),"",(O37/I37)) -> 0.012811693
B38: Retail Transmission Rate - Network Service Rate | D38: per kWh | G38: 0.01346 | H38: =$G$18*(1+G59) -> 772.125 | I38: =H38*G38 -> 10.392803 | K38: 0.01371 | L38: =$G$18*(1+K59) -> 772.125 | M38: =L38*K38 -> 10.585834 | O38: =M38-I38 -> 0.19303125 | P38: =IF(OR(I38=0,M38=0),"",(O38/I38)) -> 0.018573551
B39: Retail Transmission Rate - Line and Transformation Connection Service Rate | D39: per kWh | G39: 0.00895 | H39: =+H38 -> 772.125 | I39: =H39*G39 -> 6.9105188 | K39: 0.00908 | L39: =+L38 -> 772.125 | M39: =L39*K39 -> 7.010895 | O39: =M39-I39 -> 0.10037625 | P39: =IF(OR(I39=0,M39=0),"",(O39/I39)) -> 0.01452514
B40: Sub-Total C - Delivery (including Sub-Total B) | I40: =SUM(I37:I39) -> 70.184701 | M40: =SUM(M37:M39) -> 71.155609 | O40: =M40-I40 -> 0.9709075 | P40: =IF(OR(I40=0,M40=0),"",(O40/I40)) -> 0.013833606
B41: Wholesale Market Service Rate - not including CBR | D41: per kWh | G41: 0.0041 | H41: =+H38 -> 772.125 | I41: =H41*G41 -> 3.1657125 | K41: 0.0041 | L41: =+L38 -> 772.125 | M41: =L41*K41 -> 3.1657125 | O41: =M41-I41 -> 0 | P41: =IF(OR(I41=0,M41=0),"",(O41/I41)) -> 0
B42: Rural and Remote Rate Protection Charge (RRRP) | D42: per kWh | G42: 0.0006 | H42: =+H38 -> 772.125 | I42: =H42*G42 -> 0.463275 | K42: 0.0006 | L42: =+L38 -> 772.125 | M42: =L42*K42 -> 0.463275 | O42: =M42-I42 -> 0 | P42: =IF(OR(I42=0,M42=0),"",(O42/I42)) -> 0
B43: Capacity Based Recovery (CBR) - Applicable for Class B Customers | D43: per kWh | G43: 0.0006 | H43: =+H38 -> 772.125 | I43: =H43*G43 -> 0.463275 | K43: 0.0006 | L43: =+L38 -> 772.125 | M43: =L43*K43 -> 0.463275 | O43: =M43-I43 -> 0 | P43: =IF(OR(I43=0,M43=0),"",(O43/I43)) -> 0
B44: Standard Supply Service - Administrative Charge (if applicable) | D44: per 30 days | G44: 0.25 | H44: 1 | I44: =H44*G44 -> 0.25 | K44: 0.25 | L44: 1 | M44: =L44*K44 -> 0.25 | O44: =M44-I44 -> 0 | P44: =IF(OR(I44=0,M44=0),"",(O44/I44)) -> 0
B45: TOU - Off Peak | D45: per kWh | G45: 0.098 | H45: =$D$270*$G$18 -> 480 | I45: =H45*G45 -> 47.04 | K45: 0.098 | L45: =$D$270*$G$18 -> 480 | M45: =L45*K45 -> 47.04 | O45: =M45-I45 -> 0 | P45: =IF(OR(I45=0,M45=0),"",(O45/I45)) -> 0
B46: TOU - Mid Peak | D46: per kWh | G46: 0.157 | H46: =$D$271*$G$18 -> 135 | I46: =H46*G46 -> 21.195 | K46: 0.157 | L46: =$D$271*$G$18 -> 135 | M46: =L46*K46 -> 21.195 | O46: =M46-I46 -> 0 | P46: =IF(OR(I46=0,M46=0),"",(O46/I46)) -> 0
B47: TOU - On Peak | D47: per kWh | G47: 0.203 | H47: =$D$272*$G$18 -> 135 | I47: =H47*G47 -> 27.405 | K47: 0.203 | L47: =$D$272*$G$18 -> 135 | M47: =L47*K47 -> 27.405 | O47: =M47-I47 -> 0 | P47: =IF(OR(I47=0,M47=0),"",(O47/I47)) -> 0
B48: Energy - RPP - Tier 1 | D48: per kWh | G48: 0.12 | H48: 600 | I48: =H48*G48 -> 72 | K48: 0.12 | L48: 600 | M48: =L48*K48 -> 72 | O48: =M48-I48 -> 0 | P48: =IF(OR(I48=0,M48=0),"",(O48/I48)) -> 0
B49: Energy - RPP - Tier 2 | D49: per kWh | G49: 0.142 | H49: 150 | I49: =H49*G49 -> 21.3 | K49: 0.142 | L49: 150 | M49: =L49*K49 -> 21.3 | O49: =M49-I49 -> 0 | P49: =IF(OR(I49=0,M49=0),"",(O49/I49)) -> 0
B50: Non-RPP Retailer Avg. Price | D50: per kWh | G50: 0.1197 | H50: 0 | I50: =H50*G50 -> 0 | K50: 0.1197 | L50: 0 | M50: =L50*K50 -> 0 | O50: =M50-I50 -> 0 | P50: =IF(OR(I50=0,M50=0),"",(O50/I50))
B51: Average IESO Wholesale Market Price | D51: per kWh | G51: =G50 -> 0.1197 | H51: 0 | I51: =H51*G51 -> 0 | K51: =K50 -> 0.1197 | L51: 0 | M51: =L51*K51 -> 0 | O51: =M51-I51 -> 0 | P51: =IF(OR(I51=0,M51=0),"",(O51/I51))
P52: =IF(OR(I52=0,M52=0),"",(O52/I52))
B53: Total Bill on TOU (before Taxes) | I53: =SUM(I41:I47,I40) -> 170.16696 | M53: =SUM(M41:M47,M40) -> 171.13787 | O53: =M53-I53 -> 0.9709075 | P53: =IF(OR(I53=0,M53=0),"",(O53/I53)) -> 0.0057056169
...

Sheet CSMUR
N1: 1 | O1: 0 | U1: 1 | V1: 2 | AC1: 1 | AD1: 2 | AJ1: 1 | AK1: 2
B10: Appendix 2-W
B11: Bill Impacts | N11: 2 | U11: 2 | AC11: 2 | AJ11: 2
B14: Customer Class: | D14: COMPETITIVE SECTOR MULTI-UNIT RESIDENTIAL SERVICE
B16: TOU / non-TOU: | D16: TOU
D18: Consumption | G18: 300 | H18: kWh
G20: 2026 OEB-Approved | K20: 2027 Proposed | O20: Impact
D21: Charge Unit | G21: Rate | H21: Volume | I21: Charge | K21: Rate | L21: Volume | M21: Charge | O21: $ Change | P21: % Change
G22: ($) | I22: ($) | K22: ($) | M22: ($)
B23: Service Charge | D23: per 30 days | G23: 41.98 | H23: 1 | I23: =H23*G23 -> 41.98 | K23: 43.47 | L23: 1 | M23: =L23*K23 -> 43.47 | O23: =M23-I23 -> 1.49 | P23: =IF(OR(I23=0,M23=0),"",(O23/I23)) -> 0.035493092
B24: Rate Rider for Disposition of Wireline Pole Attachment Revenue - effective until December 31, 2029 | D24: per 30 days | G24: 0.03 | H24: 1 | I24: =H24*G24 -> 0.03 | K24: 0.03 | L24: 1 | M24: =L24*K24 -> 0.03 | O24: =M24-I24 -> 0 | P24: =IF(OR(I24=0,M24=0),"",(O24/I24)) -> 0
B25: Rate Rider for Disposition of Externally Driven Capital Variance Account - effective until December 31, 2029 | D25: per 30 days | G25: 0 | H25: 1 | I25: =H25*G25 -> 0 | K25: 0.13 | L25: 1 | M25: =L25*K25 -> 0.13 | O25: =M25-I25 -> 0.13 | P25: =IF(OR(I25=0,M25=0),"",(O25/I25))
B26: Rate Rider for Disposition of Wireless Pole Attachment Revenue - effective until December 31, 2029 | D26: per 30 days | G26: -0.03 | H26: 1 | I26: =H26*G26 -> -0.03 | K26: -0.03 | L26: 1 | M26: =L26*K26 -> -0.03 | O26: =M26-I26 -> 0 | P26: =IF(OR(I26=0,M26=0),"",(O26/I26)) -> 0
B27: Rate Rider for Disposition of Change in Useful Life of Asset (2025) - effective until December 31, 2026 | D27: per 30 days | G27: -1.1 | H27: 1 | I27: =H27*G27 -> -1.1 | K27: 0 | L27: 1 | M27: =L27*K27 -> 0 | O27: =M27-I27 -> 1.1 | P27: =IF(OR(I27=0,M27=0),"",(O27/I27))
B28: Rate Rider for Disposition of Change in Useful Life of Assets (2025) - effective until December 31, 2028 | D28: per 30 days | G28: -0.27 | H28: 1 | I28: =H28*G28 -> -0.27 | K28: -0.27 | L28: 1 | M28: =L28*K28 -> -0.27 | O28: =M28-I28 -> 0 | P28: =IF(OR(I28=0,M28=0),"",(O28/I28)) -> 0
B29: Rate Rider for Disposition of Change in Useful Life of Assets (2026) - effective until December 31, 2028 | D29: per 30 days | G29: -0.77 | H29: 1 | I29: =H29*G29 -> -0.77 | K29: -0.77 | L29: 1 | M29: =L29*K29 -> -0.77 | O29: =M29-I29 -> 0 | P29: =IF(OR(I29=0,M29=0),"",(O29/I29)) -> 0
B30: Rate Rider for Disposition of Revenue Variance Account (2025) - effective until December 31, 2027 - Interim | D30: per 30 days | G30: 0 | H30: 1 | I30: =H30*G30 -> 0 | K30: -0.87 | L30: 1 | M30: =L30*K30 -> -0.87 | O30: =M30-I30 -> -0.87 | P30: =IF(OR(I30=0,M30=0),"",(O30/I30))
B31: Sub-Total A (excluding pass through) | I31: =SUM(I23:I30) -> 39.84 | M31: =SUM(M23:M30) -> 41.69 | O31: =M31-I31 -> 1.85 | P31: =IF(OR(I31=0,M31=0),"",(O31/I31)) -> 0.046435743
B32: Line Losses on Cost of Power | D32: per kWh | G32: =RESIDENTIAL!G32 -> 0.12752 | H32: =$G$18*(1+G59)-$G$18 -> 8.85 | I32: =H32*G32 -> 1.128552 | K32: =RESIDENTIAL!K32 -> 0.12752 | L32: =$G$18*(1+K59)-$G$18 -> 8.85 | M32: =L32*K32 -> 1.128552 | O32: =M32-I32 -> 0 | P32: =IF(OR(I32=0,M32=0),"",(O32/I32)) -> 0
B33: =+RESIDENTIAL!$B$33 -> Rate Rider for Disposition of Deferral/Variance Accounts - effective until December 31, 2027 | D33: per kWh | G33: 0.00073 | H33: =+$G$18 -> 300 | I33: =H33*G33 -> 0.219 | K33: -0.00113 | L33: =+$G$18 -> 300 | M33: =L33*K33 -> -0.339 | O33: =M33-I33 -> -0.558 | P33: =IF(OR(I33=0,M33=0),"",(O33/I33)) -> -2.5479452
B34: =+RESIDENTIAL!$B$34 -> Rate Rider for Disposition of Capacity Based Recovery Account - Applicable only for Class B Customers - effective until December 31, 2027 | D34: per kWh | G34: 0.00048 | H34: =+$G$18 -> 300 | I34: =H34*G34 -> 0.144 | K34: 0.00052 | L34: =+$G$18 -> 300 | M34: =L34*K34 -> 0.156 | O34: =M34-I34 -> 0.012 | P34: =IF(OR(I34=0,M34=0),"",(O34/I34)) -> 0.083333333
B35: =+RESIDENTIAL!$B$35 -> Rate Rider for Disposition of Global Adjustment Account - Applicable only for Non-RPP Customers - effective until December 31, 2027 | D35: per kWh | G35: 0.00508 | I35: =H35*G35 -> 0 | K35: -0.00595 | M35: =L35*K35 -> 0 | O35: =M35-I35 -> 0 | P35: =IF(OR(I35=0,M35=0),"",(O35/I35))
B36: =RESIDENTIAL!B36 -> Rate Rider for Smart Metering Entity Charge - effective until December 31, 2029 | D36: per 30 days | G36: =RESIDENTIAL!G36 -> 0.41 | H36: 1 | I36: =H36*G36 -> 0.41 | K36: =RESIDENTIAL!K36 -> 0.41 | L36: 1 | M36: =L36*K36 -> 0.41 | O36: =M36-I36 -> 0 | P36: =IF(OR(I36=0,M36=0),"",(O36/I36)) -> 0
B37: Sub-Total B - Distribution (includes Sub-Total A) | I37: =SUM(I32:I36)+I31 -> 41.741552 | M37: =SUM(M32:M36)+M31 -> 43.045552 | O37: =M37-I37 -> 1.304 | P37: =IF(OR(I37=0,M37=0),"",(O37/I37)) -> 0.031239854
B38: Retail Transmission Rate - Network Service Rate | D38: per kWh | G38: 0.01346 | H38: =$G$18*(1+G59) -> 308.85 | I38: =H38*G38 -> 4.157121 | K38: 0.01371 | L38: =$G$18*(1+K59) -> 308.85 | M38: =L38*K38 -> 4.2343335 | O38: =M38-I38 -> 0.0772125 | P38: =IF(OR(I38=0,M38=0),"",(O38/I38)) -> 0.018573551
B39: Retail Transmission Rate - Line and Transformation Connection Service Rate | D39: per kWh | G39: 0.00895 | H39: =+H38 -> 308.85 | I39: =H39*G39 -> 2.7642075 | K39: 0.00908 | L39: =+L38 -> 308.85 | M39: =L39*K39 -> 2.804358 | O39: =M39-I39 -> 0.0401505 | P39: =IF(OR(I39=0,M39=0),"",(O39/I39)) -> 0.01452514
B40: Sub-Total C - Delivery (including Sub-Total B) | I40: =SUM(I37:I39) -> 48.66288 | M40: =SUM(M37:M39) -> 50.084243 | O40: =M40-I40 -> 1.421363 | P40: =IF(OR(I40=0,M40=0),"",(O40/I40)) -> 0.029208361
B41: Wholesale Market Service Rate - not including CBR | D41: per kWh | G41: 0.0041 | H41: =+H38 -> 308.85 | I41: =H41*G41 -> 1.266285 | K41: 0.0041 | L41: =+L38 -> 308.85 | M41: =L41*K41 -> 1.266285 | O41: =M41-I41 -> 0 | P41: =IF(OR(I41=0,M41=0),"",(O41/I41)) -> 0
B42: Rural and Remote Rate Protection Charge (RRRP) | D42: per kWh | G42: 0.0006 | H42: =+H38 -> 308.85 | I42: =H42*G42 -> 0.18531 | K42: 0.0006 | L42: =+L38 -> 308.85 | M42: =L42*K42 -> 0.18531 | O42: =M42-I42 -> 0 | P42: =IF(OR(I42=0,M42=0),"",(O42/I42)) -> 0
B43: Capacity Based Recovery (CBR) - Applicable for Class B Customers | D43: per kWh | G43: 0.0006 | H43: =+H38 -> 308.85 | I43: =H43*G43 -> 0.18531 | K43: 0.0006 | L43: =+L38 -> 308.85 | M43: =L43*K43 -> 0.18531 | O43: =M43-I43 -> 0 | P43: =IF(OR(I43=0,M43=0),"",(O43/I43)) -> 0
B44: Standard Supply Service - Administrative Charge (if applicable) | D44: per 30 days | G44: 0.25 | H44: 1 | I44: =H44*G44 -> 0.25 | K44: 0.25 | L44: 1 | M44: =L44*K44 -> 0.25 | O44: =M44-I44 -> 0 | P44: =IF(OR(I44=0,M44=0),"",(O44/I44)) -> 0
B45: TOU - Off Peak | D45: per kWh | G45: 0.098 | H45: =$D$112*$G$18 -> 192 | I45: =H45*G45 -> 18.816 | K45: 0.098 | L45: =$D$112*$G$18 -> 192 | M45: =L45*K45 -> 18.816 | O45: =M45-I45 -> 0 | P45: =IF(OR(I45=0,M45=0),"",(O45/I45)) -> 0
B46: TOU - Mid Peak | D46: per kWh | G46: 0.157 | H46: =$D$113*$G$18 -> 54 | I46: =H46*G46 -> 8.478 | K46: 0.157 | L46: =$D$113*$G$18 -> 54 | M46: =L46*K46 -> 8.478 | O46: =M46-I46 -> 0 | P46: =IF(OR(I46=0,M46=0),"",(O46/I46)) -> 0
B47: TOU - On Peak | D47: per kWh | G47: 0.203 | H47: =$D$114*$G$18 -> 54 | I47: =H47*G47 -> 10.962 | K47: 0.203 | L47: =$D$114*$G$18 -> 54 | M47: =L47*K47 -> 10.962 | O47: =M47-I47 -> 0 | P47: =IF(OR(I47=0,M47=0),"",(O47/I47)) -> 0
B48: Energy - RPP - Tier 1 | D48: per kWh | G48: 0.12 | H48: =IF(AND($N$1=1, $G$18>=600), 600, IF(AND($N$1=1, AND($G$18<600, $G$18>=0)), $G$18, IF(AND($N$1=2, $G$18>=1000), 1000, IF(AND($N$1=2, AND($G$18<1000, $G$18>=0)), $G$18)))) -> 300 | I48: =H48*G48 -> 36 | K48: 0.12 | L48: =IF(AND($N$1=1, $G$18>=600), 600, IF(AND($N$1=1, AND($G$18<600, $G$18>=0)), $G$18, IF(AND($N$1=2, $G$18>=1000), 1000, IF(AND($N$1=2, AND($G$18<1000, $G$18>=0)), $G$18)))) -> 300 | M48: =L48*K48 -> 36 | O48: =M48-I48 -> 0 | P48: =IF(OR(I48=0,M48=0),"",(O48/I48)) -> 0
B49: Energy - RPP - Tier 2 | D49: per kWh | G49: 0.142 | H49: =IF(AND($N$1=1, $G$18>=600), $G$18-600, IF(AND($N$1=1, AND($G$18<600, $G$18>=0)), 0, IF(AND($N$1=2, $G$18>=1000), $G$18-1000, IF(AND($N$1=2, AND($G$18<1000, $G$18>=0)), 0)))) -> 0 | I49: =H49*G49 -> 0 | K49: 0.142 | L49: =IF(AND($N$1=1, $G$18>=600), $G$18-600, IF(AND($N$1=1, AND($G$18<600, $G$18>=0)), 0, IF(AND($N$1=2, $G$18>=1000), $G$18-1000, IF(AND($N$1=2, AND($G$18<1000, $G$18>=0)), 0)))) -> 0 | M49: =L49*K49 -> 0 | O49: =M49-I49 -> 0 | P49: =IF(OR(I49=0,M49=0),"",(O49/I49))
B50: Non-RPP Retailer Avg. Price | D50: per kWh | G50: 0.1197 | H50: 0 | I50: =H50*G50 -> 0 | K50: 0.1197 | L50: 0 | M50: =L50*K50 -> 0 | O50: =M50-I50 -> 0 | P50: =IF(OR(I50=0,M50=0),"",(O50/I50))
B51: Average IESO Wholesale Market Price | D51: per kWh | G51: =G50 -> 0.1197 | H51: 0 | I51: =H51*G51 -> 0 | K51: =K50 -> 0.1197 | L51: 0 | M51: =L51*K51 -> 0 | O51: =M51-I51 -> 0 | P51: =IF(OR(I51=0,M51=0),"",(O51/I51))
O52: =M52-I52 -> 0 | P52: =IF(OR(I52=0,M52=0),"",(O52/I52))
B53: Total Bill on TOU (before Taxes) | I53: =SUM(I41:I47,I40) -> 88.805785 | M53: =SUM(M41:M47,M40) -> 90.227148 | O53: =M53-I53 -> 1.421363 | P53: =IF(OR(I53=0,M53=0),"",(O53/I53)) -> 0.016005297
...

Sheet GS<50 kW
N1: 1 | O1: 3 | T1: 1 | U1: 1 | V1: 3 | AC1: 1 | AD1: 3 | AJ1: 1 | AK1: 3
B10: Appendix 2-W
B11: Bill Impacts
B14: Customer Class: | D14: GENERAL SERVICE LESS THAN 50 kW SERVICE
B16: TOU / non-TOU: | D16: TOU
D18: Consumption | G18: 2000 | H18: kWh
G20: 2026 OEB-Approved | K20: 2027 Proposed | O20: Impact
D21: Charge Unit | G21: Rate | H21: Volume | I21: Charge | K21: Rate | L21: Volume | M21: Charge | O21: $ Change | P21: % Change
G22: ($) | I22: ($) | K22: ($) | M22: ($)
B23: Service Charge | D23: per 30 days | G23: 43.7 | H23: 1 | I23: =H23*G23 -> 43.7 | K23: 43.7 | L23: 1 | M23: =L23*K23 -> 43.7 | O23: =M23-I23 -> 0 | P23: =IF(OR(I23=0,M23=0),"",(O23/I23)) -> 0
B24: Rate Rider for Disposition of Wireline Pole Attachment Revenue - effective until December 31, 2029 | D24: per kWh | G24: 5e-05 | H24: =$G$18 -> 2000 | I24: =H24*G24 -> 0.1 | K24: 5e-05 | L24: =$G$18 -> 2000 | M24: =L24*K24 -> 0.1 | O24: =M24-I24 -> 0 | P24: =IF(OR(I24=0,M24=0),"",(O24/I24)) -> 0
B25: Rate Rider for Disposition of Externally Driven Capital Variance Account - effective until December 31, 2029 | D25: per kWh | G25: 0 | H25: =$G$18 -> 2000 | I25: =H25*G25 -> 0 | K25: 0.00021 | L25: =$G$18 -> 2000 | M25: =L25*K25 -> 0.42 | O25: =M25-I25 -> 0.42 | P25: =IF(OR(I25=0,M25=0),"",(O25/I25))
B26: Rate Rider for Disposition of Wireless Pole Attachment Revenue - effective until December 31, 2029 | D26: per kWh | G26: -4e-05 | H26: =$G$18 -> 2000 | I26: =H26*G26 -> -0.08 | K26: -4e-05 | L26: =$G$18 -> 2000 | M26: =L26*K26 -> -0.08 | O26: =M26-I26 -> 0 | P26: =IF(OR(I26=0,M26=0),"",(O26/I26)) -> 0
B27: Rate Rider for Disposition of Change in Useful Life of Asset (2025) - effective until December 31, 2026 | D27: per kWh | G27: -0.00179 | H27: =$G$18 -> 2000 | I27: =H27*G27 -> -3.58 | K27: 0 | L27: =$G$18 -> 2000 | M27: =L27*K27 -> 0 | O27: =M27-I27 -> 3.58 | P27: =IF(OR(I27=0,M27=0),"",(O27/I27))
B28: Rate Rider for Disposition of Change in Useful Life of Assets (2025) - effective until December 31, 2028 | D28: per kWh | G28: -0.00043 | H28: =$G$18 -> 2000 | I28: =H28*G28 -> -0.86 | K28: -0.00043 | L28: =$G$18 -> 2000 | M28: =L28*K28 -> -0.86 | O28: =M28-I28 -> 0 | P28: =IF(OR(I28=0,M28=0),"",(O28/I28)) -> 0
B29: Rate Rider for Disposition of Change in Useful Life of Assets (2026) - effective until December 31, 2028 | D29: per kWh | G29: -0.00125 | H29: =$G$18 -> 2000 | I29: =H29*G29 -> -2.5 | K29: -0.00125 | L29: =$G$18 -> 2000 | M29: =L29*K29 -> -2.5 | O29: =M29-I29 -> 0 | P29: =IF(OR(I29=0,M29=0),"",(O29/I29)) -> 0
B30: Rate Rider for Disposition of Revenue Variance Account (2025) - effective until December 31, 2027 - Interim | D30: per kWh | G30: 0 | H30: =$G$18 -> 2000 | I30: =H30*G30 -> 0 | K30: -0.00134 | L30: =$G$18 -> 2000 | M30: =L30*K30 -> -2.68 | O30: =M30-I30 -> -2.68 | P30: =IF(OR(I30=0,M30=0),"",(O30/I30))
B31: Distribution Volumetric Rate | D31: per kWh | G31: 0.04778 | H31: =$G$18 -> 2000 | I31: =H31*G31 -> 95.56 | K31: 0.05005 | L31: =$G$18 -> 2000 | M31: =L31*K31 -> 100.1 | O31: =M31-I31 -> 4.54 | P31: =IF(OR(I31=0,M31=0),"",(O31/I31)) -> 0.047509418
B32: Sub-Total A (excluding pass through) | I32: =SUM(I23:I31) -> 132.34 | M32: =SUM(M23:M31) -> 138.2 | O32: =M32-I32 -> 5.86 | P32: =IF(OR(I32=0,M32=0),"",(O32/I32)) -> 0.044279885
B33: Line Losses on Cost of Power | D33: per kWh | G33: =RESIDENTIAL!G32 -> 0.12752 | H33: =$G$18*(1+G65)-$G$18 -> 59 | I33: =H33*G33 -> 7.52368 | K33: =RESIDENTIAL!K32 -> 0.12752 | L33: =$G$18*(1+K65)-$G$18 -> 59 | M33: =L33*K33 -> 7.52368 | O33: =M33-I33 -> 0 | P33: =IF(OR(I33=0,M33=0),"",(O33/I33)) -> 0
B34: =+RESIDENTIAL!$B$33 -> Rate Rider for Disposition of Deferral/Variance Accounts - effective until December 31, 2027 | D34: per kWh | G34: 0.00124 | H34: =$G$18 -> 2000 | I34: =H34*G34 -> 2.48 | K34: -0.00104 | L34: =$G$18 -> 2000 | M34: =L34*K34 -> -2.08 | O34: =M34-I34 -> -4.56 | P34: =IF(OR(I34=0,M34=0),"",(O34/I34)) -> -1.8387097
B35: =+RESIDENTIAL!$B$34 -> Rate Rider for Disposition of Capacity Based Recovery Account - Applicable only for Class B Customers - effective until December 31, 2027 | D35: per kWh | G35: 0.00048 | H35: =$G$18 -> 2000 | I35: =H35*G35 -> 0.96 | K35: 0.00052 | L35: =$G$18 -> 2000 | M35: =L35*K35 -> 1.04 | O35: =M35-I35 -> 0.08 | P35: =IF(OR(I35=0,M35=0),"",(O35/I35)) -> 0.083333333
B36: =+RESIDENTIAL!$B$35 -> Rate Rider for Disposition of Global Adjustment Account - Applicable only for Non-RPP Customers - effective until December 31, 2027 | D36: per kWh | G36: 0.00508 | I36: =H36*G36 -> 0 | K36: -0.00595 | M36: =L36*K36 -> 0 | O36: =M36-I36 -> 0 | P36: =IF(OR(I36=0,M36=0),"",(O36/I36))
B37: =CSMUR!B36 -> Rate Rider for Smart Metering Entity Charge - effective until December 31, 2029 | D37: per 30 days | G37: =RESIDENTIAL!G36 -> 0.41 | H37: 1 | I37: =H37*G37 -> 0.41 | K37: =RESIDENTIAL!K36 -> 0.41 | L37: 1 | M37: =L37*K37 -> 0.41 | O37: =M37-I37 -> 0 | P37: =IF(OR(I37=0,M37=0),"",(O37/I37)) -> 0
B38: Sub-Total B - Distribution (includes Sub-Total A) | I38: =SUM(I33:I37)+I32 -> 143.71368 | M38: =SUM(M33:M37)+M32 -> 145.09368 | O38: =M38-I38 -> 1.38 | P38: =IF(OR(I38=0,M38=0),"",(O38/I38)) -> 0.0096024262
B39: Retail Transmission Rate - Network Service Rate | D39: per kWh | G39: 0.0131 | H39: =$G$18*(1+G65) -> 2059 | I39: =H39*G39 -> 26.9729 | K39: 0.01334 | L39: =$G$18*(1+K65) -> 2059 | M39: =L39*K39 -> 27.46706 | O39: =M39-I39 -> 0.49416 | P39: =IF(OR(I39=0,M39=0),"",(O39/I39)) -> 0.018320611
B40: Retail Transmission Rate - Line and Transformation Connection Service Rate | D40: per kWh | G40: 0.00801 | H40: =H39 -> 2059 | I40: =H40*G40 -> 16.49259 | K40: 0.00813 | L40: =L39 -> 2059 | M40: =L40*K40 -> 16.73967 | O40: =M40-I40 -> 0.24708 | P40: =IF(OR(I40=0,M40=0),"",(O40/I40)) -> 0.014981273
B41: Sub-Total C - Delivery (including Sub-Total B) | I41: =SUM(I38:I40) -> 187.17917 | M41: =SUM(M38:M40) -> 189.30041 | O41: =M41-I41 -> 2.12124 | P41: =IF(OR(I41=0,M41=0),"",(O41/I41)) -> 0.011332671
B42: Wholesale Market Service Charge (WMSC) | D42: per kWh | G42: 0.0041 | H42: =H39 -> 2059 | I42: =H42*G42 -> 8.4419 | K42: 0.0041 | L42: =L39 -> 2059 | M42: =L42*K42 -> 8.4419 | O42: =M42-I42 -> 0 | P42: =IF(OR(I42=0,M42=0),"",(O42/I42)) -> 0
B43: Rural and Remote Rate Protection (RRRP) | D43: per kWh | G43: 0.0006 | H43: =H39 -> 2059 | I43: =H43*G43 -> 1.2354 | K43: 0.0006 | L43: =L39 -> 2059 | M43: =L43*K43 -> 1.2354 | O43: =M43-I43 -> 0 | P43: =IF(OR(I43=0,M43=0),"",(O43/I43)) -> 0
B44: Capacity Based Recovery (CBR) - Applicable for Class B Customers | D44: per kWh | G44: 0.0006 | H44: =+H39 -> 2059 | I44: =H44*G44 -> 1.2354 | K44: 0.0006 | L44: =+L39 -> 2059 | M44: =L44*K44 -> 1.2354 | O44: =M44-I44 -> 0 | P44: =IF(OR(I44=0,M44=0),"",(O44/I44)) -> 0
B45: Standard Supply Service Charge | D45: per 30 days | G45: 0.25 | H45: 1 | I45: =H45*G45 -> 0.25 | K45: 0.25 | L45: 1 | M45: =L45*K45 -> 0.25 | O45: =M45-I45 -> 0 | P45: =IF(OR(I45=0,M45=0),"",(O45/I45)) -> 0
B46: TOU - Off Peak | D46: per kWh | G46: 0.098 | H46: =$G$18*$D$124 -> 1280 | I46: =H46*G46 -> 125.44 | K46: 0.098 | L46: =$G$18*$D$124 -> 1280 | M46: =L46*K46 -> 125.44 | O46: =M46-I46 -> 0 | P46: =IF(OR(I46=0,M46=0),"",(O46/I46)) -> 0
B47: TOU - Mid Peak | D47: per kWh | G47: 0.157 | H47: =$G$18*$D$125 -> 360 | I47: =H47*G47 -> 56.52 | K47: 0.157 | L47: =$G$18*$D$125 -> 360 | M47: =L47*K47 -> 56.52 | O47: =M47-I47 -> 0 | P47: =IF(OR(I47=0,M47=0),"",(O47/I47)) -> 0
B48: TOU - On Peak | D48: per kWh | G48: 0.203 | H48: =$G$18*$D$126 -> 360 | I48: =H48*G48 -> 73.08 | K48: 0.203 | L48: =$G$18*$D$126 -> 360 | M48: =L48*K48 -> 73.08 | O48: =M48-I48 -> 0 | P48: =IF(OR(I48=0,M48=0),"",(O48/I48)) -> 0
B49: Energy - RPP - Tier 1 | D49: per kWh | G49: 0.12 | H49: =IF(AND($T$1=1, $G$18>=750), 750, IF(AND($T$1=1, AND($G$18<750, $G$18>=0)), $G$18, IF(AND($T$1=2, $G$18>=1000), 1000, IF(AND($T$1=2, AND($G$18<1000, $G$18>=0)), $G$18)))) -> 750 | I49: =H49*G49 -> 90 | K49: 0.12 | L49: =IF(AND($T$1=1, $G$18>=750), 750, IF(AND($T$1=1, AND($G$18<750, $G$18>=0)), $G$18, IF(AND($T$1=2, $G$18>=1000), 1000, IF(AND($T$1=2, AND($G$18<1000, $G$18>=0)), $G$18)))) -> 750 | M49: =L49*K49 -> 90 | O49: =M49-I49 -> 0 | P49: =IF(OR(I49=0,M49=0),"",(O49/I49)) -> 0
B50: Energy - RPP - Tier 2 | D50: per kWh | G50: 0.142 | H50: =IF(AND($T$1=1, $G$18>=750), $G$18-750, IF(AND($T$1=1, AND($G$18<750, $G$18>=0)), 0, IF(AND($T$1=2, $G$18>=1000), $G$18-1000, IF(AND($T$1=2, AND($G$18<1000, $G$18>=0)), 0)))) -> 1250 | I50: =H50*G50 -> 177.5 | K50: 0.142 | L50: =IF(AND($T$1=1, $G$18>=750), $G$18-750, IF(AND($T$1=1, AND($G$18<750, $G$18>=0)), 0, IF(AND($T$1=2, $G$18>=1000), $G$18-1000, IF(AND($T$1=2, AND($G$18<1000, $G$18>=0)), 0)))) -> 1250 | M50: =L50*K50 -> 177.5 | O50: =M50-I50 -> 0 | P50: =IF(OR(I50=0,M50=0),"",(O50/I50)) -> 0
B51: Non-RPP Retailer Avg. Price | D51: per kWh | G51: 0.1197 | I51: =H51*G51 -> 0 | K51: 0.1197 | M51: =L51*K51 -> 0 | O51: =M51-I51 -> 0 | P51: =IF(OR(I51=0,M51=0),"",(O51/I51))
B52: Average IESO Wholesale Market Price | D52: per kWh | G52: =G51 -> 0.1197 | I52: =H52*G52 -> 0 | K52: =K51 -> 0.1197 | M52: =L52*K52 -> 0 | O52: =M52-I52 -> 0 | P52: =IF(OR(I52=0,M52=0),"",(O52/I52))
O53: =M53-I53 -> 0 | P53: =IF(OR(I53=0,M53=0),"",(O53/I53))
...

Sheet GS 50-999 kW
N1: 1 | O1: 1 | U1: 1 | V1: 1 | AC1: 1 | AD1: 1 | AJ1: 1 | AK1: 1
B10: Appendix 2-W
B11: Bill Impacts | O11: 0.64 | P11: TOU - Off Peak | V11: 0.64 | W11: TOU - Off Peak | AD11: 0.64 | AE11: TOU - Off Peak | AK11: 0.64 | AL11: TOU - Off Peak
O12: 0.18 | P12: TOU - Mid Peak | V12: 0.18 | W12: TOU - Mid Peak | AD12: 0.18 | AE12: TOU - Mid Peak | AK12: 0.18 | AL12: TOU - Mid Peak
O13: 0.18 | P13: TOU - On Peak | V13: 0.18 | W13: TOU - On Peak | AD13: 0.18 | AE13: TOU - On Peak | AK13: 0.18 | AL13: TOU - On Peak
B14: Customer Class: | D14: GENERAL SERVICE 50 TO 999 kW SERVICE
B16: TOU / non-TOU: | D16: non-TOU | G16: SPOT Class B
G17: 180 | H17: kW
G18: 200 | H18: kVA
D19: Consumption | G19: 79000 | H19: kWh
G20: 2026 OEB-Approved | K20: 2027 Proposed | O20: Impact
D21: Charge Unit | G21: Rate | H21: Volume | I21: Charge | K21: Rate | L21: Volume | M21: Charge | O21: $ Change | P21: % Change
G22: ($) | I22: ($) | K22: ($) | M22: ($)
B23: Service Charge | D23: per 30 days | G23: 64.3 | H23: 1 | I23: =H23*G23 -> 64.3 | K23: 66.59 | L23: 1 | M23: =L23*K23 -> 66.59 | O23: =M23-I23 -> 2.29 | P23: =IF(OR(I23=0,M23=0),"",(O23/I23)) -> 0.035614308
B24: Rate Rider for Disposition of Wireline Pole Attachment Revenue - effective until December 31, 2029 | D24: per kVA | G24: 0.0063 | H24: =$G$18 -> 200 | I24: =H24*G24 -> 1.26 | K24: 0.0063 | L24: =$G$18 -> 200 | M24: =L24*K24 -> 1.26 | O24: =M24-I24 -> 0 | P24: =IF(OR(I24=0,M24=0),"",(O24/I24)) -> 0
B25: Rate Rider for Disposition of Excess Expansion Deposits - effective until December 31, 2029 | D25: per kVA | G25: -0.0472 | H25: =$G$18 -> 200 | I25: =H25*G25 -> -9.44 | K25: -0.0472 | L25: =$G$18 -> 200 | M25: =L25*K25 -> -9.44 | O25: =M25-I25 -> 0 | P25: =IF(OR(I25=0,M25=0),"",(O25/I25)) -> 0
B26: Rate Rider for Disposition of Externally Driven Capital Variance Account - effective until December 31, 2029 | D26: per kVA | G26: 0 | H26: =$G$18 -> 200 | I26: =H26*G26 -> 0 | K26: 0.0349 | L26: =$G$18 -> 200 | M26: =L26*K26 -> 6.98 | O26: =M26-I26 -> 6.98 | P26: =IF(OR(I26=0,M26=0),"",(O26/I26))
B27: Rate Rider for Disposition of Wireless Pole Attachment Revenue - effective until December 31, 2029 | D27: per kVA | G27: -0.0052 | H27: =$G$18 -> 200 | I27: =H27*G27 -> -1.04 | K27: -0.0052 | L27: =$G$18 -> 200 | M27: =L27*K27 -> -1.04 | O27: =M27-I27 -> 0 | P27: =IF(OR(I27=0,M27=0),"",(O27/I27)) -> 0
B28: Rate Rider for Disposition of Change in Useful Life of Asset (2025) - effective until December 31, 2026 | D28: per kVA | G28: -0.3006 | H28: =$G$18 -> 200 | I28: =H28*G28 -> -60.12 | K28: 0 | L28: =$G$18 -> 200 | M28: =L28*K28 -> 0 | O28: =M28-I28 -> 60.12 | P28: =IF(OR(I28=0,M28=0),"",(O28/I28))
B29: Rate Rider for Disposition of Change in Useful Life of Assets (2025) - effective until December 31, 2028 | D29: per kVA | G29: -0.0726 | H29: =$G$18 -> 200 | I29: =H29*G29 -> -14.52 | K29: -0.0726 | L29: =$G$18 -> 200 | M29: =L29*K29 -> -14.52 | O29: =M29-I29 -> 0 | P29: =IF(OR(I29=0,M29=0),"",(O29/I29)) -> 0
B30: Rate Rider for Disposition of Change in Useful Life of Assets (2026) - effective until December 31, 2028 | D30: per kVA | G30: -0.2109 | H30: =$G$18 -> 200 | I30: =H30*G30 -> -42.18 | K30: -0.2109 | L30: =$G$18 -> 200 | M30: =L30*K30 -> -42.18 | O30: =M30-I30 -> 0 | P30: =IF(OR(I30=0,M30=0),"",(O30/I30)) -> 0
B31: Rate Rider for Disposition of Revenue Variance Account (2025) - effective until December 31, 2027 - Interim | D31: per kVA | G31: 0 | H31: =$G$18 -> 200 | I31: =H31*G31 -> 0 | K31: -0.2433 | L31: =$G$18 -> 200 | M31: =L31*K31 -> -48.66 | O31: =M31-I31 -> -48.66 | P31: =IF(OR(I31=0,M31=0),"",(O31/I31))
B32: Distribution Volumetric Rate | D32: per kVA | G32: 10.517 | H32: =$G$18 -> 200 | I32: =H32*G32 -> 2103.4 | K32: 10.8836 | L32: =$G$18 -> 200 | M32: =L32*K32 -> 2176.72 | O32: =M32-I32 -> 73.32 | P32: =IF(OR(I32=0,M32=0),"",(O32/I32)) -> 0.034857849
B33: Sub-Total A (excluding pass through) | I33: =SUM(I23:I32) -> 2041.66 | M33: =SUM(M23:M32) -> 2135.71 | O33: =M33-I33 -> 94.05 | P33: =IF(OR(I33=0,M33=0),"",(O33/I33)) -> 0.046065457
B34: Line Losses on Cost of Power | D34: per kWh | G34: =G53 -> 0.1197 | H34: =$G$19*(1+G66)-$G$19 -> 2330.5 | I34: =H34*G34 -> 278.96085 | K34: =K53 -> 0.1197 | L34: =$G$19*(1+K66)-$G$19 -> 2330.5 | M34: =L34*K34 -> 278.96085 | O34: =M34-I34 -> 0 | P34: =IF(OR(I34=0,M34=0),"",(O34/I34)) -> 0
B35: =+RESIDENTIAL!$B$33 -> Rate Rider for Disposition of Deferral/Variance Accounts - effective until December 31, 2027 | D35: per kVA | G35: 0.4088 | H35: =$G$18 -> 200 | I35: =H35*G35 -> 81.76 | K35: 0.0113 | L35: =$G$18 -> 200 | M35: =L35*K35 -> 2.26 | O35: =M35-I35 -> -79.5 | P35: =IF(OR(I35=0,M35=0),"",(O35/I35)) -> -0.97235812
B36: Rate Rider for Disposition of Deferral/Variance Accounts for Non-Wholesale Market Participants - effective until December 31, 2027 | D36: per kVA | G36: 0.0941 | H36: =$G$18 -> 200 | I36: =H36*G36 -> 18.82 | K36: -0.4165 | L36: =$G$18 -> 200 | M36: =L36*K36 -> -83.3 | O36: =M36-I36 -> -102.12 | P36: =IF(OR(I36=0,M36=0),"",(O36/I36)) -> -5.4261424
B37: =+RESIDENTIAL!$B$34 -> Rate Rider for Disposition of Capacity Based Recovery Account - Applicable only for Class B Customers - effective until December 31, 2027 | D37: per kVA | G37: 0.1892 | H37: =$G$18 -> 200 | I37: =H37*G37 -> 37.84 | K37: 0.2069 | L37: =$G$18 -> 200 | M37: =L37*K37 -> 41.38 | O37: =M37-I37 -> 3.54 | P37: =IF(OR(I37=0,M37=0),"",(O37/I37)) -> 0.093551797
B38: =+RESIDENTIAL!$B$35 -> Rate Rider for Disposition of Global Adjustment Account - Applicable only for Non-RPP Customers - effective until December 31, 2027 | D38: per kWh | G38: 0.00508 | H38: =+$G$19 -> 79000 | I38: =H38*G38 -> 401.32 | K38: -0.00595 | L38: =+$G$19 -> 79000 | M38: =L38*K38 -> -470.05 | O38: =M38-I38 -> -871.37 | P38: =IF(OR(I38=0,M38=0),"",(O38/I38)) -> -2.1712598
B39: Sub-Total B - Distribution (includes Sub-Total A) | I39: =SUM(I34:I38)+I33 -> 2860.3609 | M39: =SUM(M34:M38)+M33 -> 1904.9608 | O39: =M39-I39 -> -955.4 | P39: =IF(OR(I39=0,M39=0),"",(O39/I39)) -> -0.3340138
B40: Retail Transmission Rate - Network Service Rate | D40: per kW | G40: 4.4306 | H40: =+$G$17 -> 180 | I40: =H40*G40 -> 797.508 | K40: 4.5129 | L40: =+$G$17 -> 180 | M40: =L40*K40 -> 812.322 | O40: =M40-I40 -> 14.814 | P40: =IF(OR(I40=0,M40=0),"",(O40/I40)) -> 0.018575362
B41: Retail Transmission Rate - Line and Transformation Connection Service Rate | D41: per kW | G41: 2.8938 | H41: =+$G$17 -> 180 | I41: =H41*G41 -> 520.884 | K41: 2.9371 | L41: =+$G$17 -> 180 | M41: =L41*K41 -> 528.678 | O41: =M41-I41 -> 7.794 | P41: =IF(OR(I41=0,M41=0),"",(O41/I41)) -> 0.014963024
B42: Sub-Total C - Delivery (including Sub-Total B) | I42: =SUM(I39:I41) -> 4178.7528 | M42: =SUM(M39:M41) -> 3245.9608 | O42: =M42-I42 -> -932.792 | P42: =IF(OR(I42=0,M42=0),"",(O42/I42)) -> -0.22322258
B43: Wholesale Market Service Charge (WMSC) | D43: per kWh | G43: 0.0041 | H43: =+$G$19*(1+G66) -> 81330.5 | I43: =H43*G43 -> 333.45505 | K43: 0.0041 | L43: =+$G$19*(1+K66) -> 81330.5 | M43: =L43*K43 -> 333.45505 | O43: =M43-I43 -> 0 | P43: =IF(OR(I43=0,M43=0),"",(O43/I43)) -> 0
B44: Rural and Remote Rate Protection (RRRP) | D44: per kWh | G44: 0.0006 | H44: =+H43 -> 81330.5 | I44: =H44*G44 -> 48.7983 | K44: 0.0006 | L44: =+L43 -> 81330.5 | M44: =L44*K44 -> 48.7983 | O44: =M44-I44 -> 0 | P44: =IF(OR(I44=0,M44=0),"",(O44/I44)) -> 0
B45: Capacity Based Recovery (CBR) - Applicable for Class B Customers | D45: per kWh | G45: 0.0006 | H45: =+H43 -> 81330.5 | I45: =H45*G45 -> 48.7983 | K45: 0.0006 | L45: =+L43 -> 81330.5 | M45: =L45*K45 -> 48.7983 | O45: =M45-I45 -> 0 | P45: =IF(OR(I45=0,M45=0),"",(O45/I45)) -> 0
B46: Standard Supply Service Charge | D46: per 30 days | G46: 0.25 | H46: 1 | I46: =H46*G46 -> 0.25 | K46: 0.25 | L46: 1 | M46: =L46*K46 -> 0.25 | O46: =M46-I46 -> 0 | P46: =IF(OR(I46=0,M46=0),"",(O46/I46)) -> 0
B47: TOU - Off Peak | D47: per kWh | G47: 0.098 | H47: =$D$69*$G$19 -> 50560 | I47: =H47*G47 -> 4954.88 | K47: 0.098 | L47: =$D$69*$G$19 -> 50560 | M47: =L47*K47 -> 4954.88 | O47: =M47-I47 -> 0 | P47: =IF(OR(I47=0,M47=0),"",(O47/I47)) -> 0
B48: TOU - Mid Peak | D48: per kWh | G48: 0.157 | H48: =$D$70*$G$19 -> 14220 | I48: =H48*G48 -> 2232.54 | K48: 0.157 | L48: =$D$70*$G$19 -> 14220 | M48: =L48*K48 -> 2232.54 | O48: =M48-I48 -> 0 | P48: =IF(OR(I48=0,M48=0),"",(O48/I48)) -> 0
B49: TOU - On Peak | D49: per kWh | G49: 0.203 | H49: =$D$71*$G$19 -> 14220 | I49: =H49*G49 -> 2886.66 | K49: 0.203 | L49: =$D$71*$G$19 -> 14220 | M49: =L49*K49 -> 2886.66 | O49: =M49-I49 -> 0 | P49: =IF(OR(I49=0,M49=0),"",(O49/I49)) -> 0
...

Sheet GS 1,000-4,999 kW
N1: 1 | U1: 2 | AC1: 2 | AJ1: 2
B10: Appendix 2-W
B11: Bill Impacts
B14: Customer Class: | D14: GENERAL SERVICE 1,000 TO 4,999 kW SERVICE
B16: TOU / non-TOU: | D16: non-TOU | G16: SPOT Class A Non-WMP
G17: 1700 | H17: kW
G18: 1900 | H18: kVA
D19: Consumption | G19: 900000 | H19: kWh
G20: 2026 OEB-Approved | K20: 2027 Proposed | O20: Impact
D21: Charge Unit | G21: Rate | H21: Volume | I21: Charge | K21: Rate | L21: Volume | M21: Charge | O21: $ Change | P21: % Change
G22: ($) | I22: ($) | K22: ($) | M22: ($)
B23: Service Charge | D23: per 30 days | G23: 1094.15 | H23: 1 | I23: =H23*G23 -> 1094.15 | K23: 1094.15 | L23: 1 | M23: =L23*K23 -> 1094.15 | O23: =M23-I23 -> 0 | P23: =IF(OR(I23=0,M23=0),"",(O23/I23)) -> 0
B24: Rate Rider for Disposition of Wireline Pole Attachment Revenue - effective until December 31, 2029 | D24: per kVA | G24: 0.0047 | H24: =$G$18 -> 1900 | I24: =H24*G24 -> 8.93 | K24: 0.0047 | L24: =$G$18 -> 1900 | M24: =L24*K24 -> 8.93 | O24: =M24-I24 -> 0 | P24: =IF(OR(I24=0,M24=0),"",(O24/I24)) -> 0
B25: Rate Rider for Disposition of Excess Expansion Deposits - effective until December 31, 2029 | D25: per kVA | G25: -0.0403 | H25: =$G$18 -> 1900 | I25: =H25*G25 -> -76.57 | K25: -0.0403 | L25: =$G$18 -> 1900 | M25: =L25*K25 -> -76.57 | O25: =M25-I25 -> 0 | P25: =IF(OR(I25=0,M25=0),"",(O25/I25)) -> 0
B26: Rate Rider for Disposition of Externally Driven Capital Variance Account - effective until December 31, 2029 | D26: per kVA | G26: 0 | H26: =$G$18 -> 1900 | I26: =H26*G26 -> 0 | K26: 0.0299 | L26: =$G$18 -> 1900 | M26: =L26*K26 -> 56.81 | O26: =M26-I26 -> 56.81 | P26: =IF(OR(I26=0,M26=0),"",(O26/I26))
B27: Rate Rider for Disposition of Wireless Pole Attachment Revenue - effective until December 31, 2029 | D27: per kVA | G27: -0.0039 | H27: =$G$18 -> 1900 | I27: =H27*G27 -> -7.41 | K27: -0.0039 | L27: =$G$18 -> 1900 | M27: =L27*K27 -> -7.41 | O27: =M27-I27 -> 0 | P27: =IF(OR(I27=0,M27=0),"",(O27/I27)) -> 0
B28: Rate Rider for Disposition of Change in Useful Life of Asset (2025) - effective until December 31, 2026 | D28: per kVA | G28: -0.2568 | H28: =$G$18 -> 1900 | I28: =H28*G28 -> -487.92 | K28: 0 | L28: =$G$18 -> 1900 | M28: =L28*K28 -> 0 | O28: =M28-I28 -> 487.92 | P28: =IF(OR(I28=0,M28=0),"",(O28/I28))
B29: Rate Rider for Disposition of Change in Useful Life of Assets (2025) - effective until December 31, 2028 | D29: per kVA | G29: -0.0621 | H29: =$G$18 -> 1900 | I29: =H29*G29 -> -117.99 | K29: -0.0621 | L29: =$G$18 -> 1900 | M29: =L29*K29 -> -117.99 | O29: =M29-I29 -> 0 | P29: =IF(OR(I29=0,M29=0),"",(O29/I29)) -> 0
B30: Rate Rider for Disposition of Change in Useful Life of Assets (2026) - effective until December 31, 2028 | D30: per kVA | G30: -0.1802 | H30: =$G$18 -> 1900 | I30: =H30*G30 -> -342.38 | K30: -0.1802 | L30: =$G$18 -> 1900 | M30: =L30*K30 -> -342.38 | O30: =M30-I30 -> 0 | P30: =IF(OR(I30=0,M30=0),"",(O30/I30)) -> 0
B31: Rate Rider for Disposition of Revenue Variance Account (2025) - effective until December 31, 2027 - Interim | D31: per kVA | G31: 0 | H31: =$G$18 -> 1900 | I31: =H31*G31 -> 0 | K31: -0.2113 | L31: =$G$18 -> 1900 | M31: =L31*K31 -> -401.47 | O31: =M31-I31 -> -401.47 | P31: =IF(OR(I31=0,M31=0),"",(O31/I31))
B32: Distribution Volumetric Rate | D32: per kVA | G32: 8.7311 | H32: =$G$18 -> 1900 | I32: =H32*G32 -> 16589.09 | K32: 9.0479 | L32: =$G$18 -> 1900 | M32: =L32*K32 -> 17191.01 | O32: =M32-I32 -> 601.92 | P32: =IF(OR(I32=0,M32=0),"",(O32/I32)) -> 0.036284088
B33: Sub-Total A (excluding pass through) | I33: =SUM(I23:I32) -> 16659.9 | M33: =SUM(M23:M32) -> 17405.08 | O33: =M33-I33 -> 745.18 | P33: =IF(OR(I33=0,M33=0),"",(O33/I33)) -> 0.04472896
B34: Line Losses on Cost of Power | D34: per kWh | G34: =G52 -> 0.1197 | H34: =$G$19*(1+G65)-$G$19 -> 26550 | I34: =H34*G34 -> 3178.035 | K34: =K52 -> 0.1197 | L34: =$G$19*(1+K65)-$G$19 -> 26550 | M34: =L34*K34 -> 3178.035 | O34: =M34-I34 -> 0 | P34: =IF(OR(I34=0,M34=0),"",(O34/I34)) -> 0
B35: =+RESIDENTIAL!$B$33 -> Rate Rider for Disposition of Deferral/Variance Accounts - effective until December 31, 2027 | D35: per kVA | G35: 0.6206 | H35: =$G$18 -> 1900 | I35: =H35*G35 -> 1179.14 | K35: -0.4556 | L35: =$G$18 -> 1900 | M35: =L35*K35 -> -865.64 | O35: =M35-I35 -> -2044.78 | P35: =IF(OR(I35=0,M35=0),"",(O35/I35)) -> -1.7341283
B36: =+RESIDENTIAL!$B$34 -> Rate Rider for Disposition of Capacity Based Recovery Account - Applicable only for Class B Customers - effective until December 31, 2027 | D36: per kVA | G36: 0.1847 | I36: =H36*G36 -> 0 | K36: 0.2213 | M36: =L36*K36 -> 0 | O36: =M36-I36 -> 0 | P36: =IF(OR(I36=0,M36=0),"",(O36/I36))
B37: =+RESIDENTIAL!$B$35 -> Rate Rider for Disposition of Global Adjustment Account - Applicable only for Non-RPP Customers - effective until December 31, 2027 | D37: per kWh | G37: 0.00508 | I37: =H37*G37 -> 0 | K37: -0.00595 | M37: =L37*K37 -> 0 | O37: =M37-I37 -> 0 | P37: =IF(OR(I37=0,M37=0),"",(O37/I37))
B38: Sub-Total B - Distribution (includes Sub-Total A) | I38: =SUM(I34:I37)+I33 -> 21017.075 | M38: =SUM(M34:M37)+M33 -> 19717.475 | O38: =M38-I38 -> -1299.6 | P38: =IF(OR(I38=0,M38=0),"",(O38/I38)) -> -0.061835436
B39: Retail Transmission Rate - Network Service Rate | D39: per kW | G39: 4.2809 | H39: =$G$17 -> 1700 | I39: =H39*G39 -> 7277.53 | K39: 4.3604 | L39: =$G$17 -> 1700 | M39: =L39*K39 -> 7412.68 | O39: =M39-I39 -> 135.15 | P39: =IF(OR(I39=0,M39=0),"",(O39/I39)) -> 0.018570861
B40: Retail Transmission Rate - Line and Transformation Connection Service Rate | D40: per kW | G40: 2.8908 | H40: =$G$17 -> 1700 | I40: =H40*G40 -> 4914.36 | K40: 2.934 | L40: =$G$17 -> 1700 | M40: =L40*K40 -> 4987.8 | O40: =M40-I40 -> 73.44 | P40: =IF(OR(I40=0,M40=0),"",(O40/I40)) -> 0.01494396
B41: Sub-Total C - Delivery (including Sub-Total B) | I41: =SUM(I38:I40) -> 33208.965 | M41: =SUM(M38:M40) -> 32117.955 | O41: =M41-I41 -> -1091.01 | P41: =IF(OR(I41=0,M41=0),"",(O41/I41)) -> -0.032852876
B42: Wholesale Market Service Charge (WMSC) | D42: per kWh | G42: 0.0041 | H42: =+$G$19*(1+G65) -> 926550 | I42: =H42*G42 -> 3798.855 | K42: 0.0041 | L42: =+$G$19*(1+K65) -> 926550 | M42: =L42*K42 -> 3798.855 | O42: =M42-I42 -> 0 | P42: =IF(OR(I42=0,M42=0),"",(O42/I42)) -> 0
B43: Rural and Remote Rate Protection (RRRP) | D43: per kWh | G43: 0.0006 | H43: =+H42 -> 926550 | I43: =H43*G43 -> 555.93 | K43: 0.0006 | L43: =+L42 -> 926550 | M43: =L43*K43 -> 555.93 | O43: =M43-I43 -> 0 | P43: =IF(OR(I43=0,M43=0),"",(O43/I43)) -> 0
B44: Capacity Based Recovery (CBR) - Applicable for Class B Customers | D44: per kWh | G44: 0.0006 | I44: =H44*G44 -> 0 | K44: 0.0006 | M44: =L44*K44 -> 0 | O44: =M44-I44 -> 0 | P44: =IF(OR(I44=0,M44=0),"",(O44/I44))
B45: Standard Supply Service Charge | D45: per 30 days | G45: 0.25 | H45: 1 | I45: =H45*G45 -> 0.25 | K45: 0.25 | L45: 1 | M45: =L45*K45 -> 0.25 | O45: =M45-I45 -> 0 | P45: =IF(OR(I45=0,M45=0),"",(O45/I45)) -> 0
B46: TOU - Off Peak | D46: per kWh | G46: 0.098 | H46: =$D$126*$G$19 -> 576000 | I46: =H46*G46 -> 56448 | K46: 0.098 | L46: =$D$126*$G$19 -> 576000 | M46: =L46*K46 -> 56448 | O46: =M46-I46 -> 0 | P46: =IF(OR(I46=0,M46=0),"",(O46/I46)) -> 0
B47: TOU - Mid Peak | D47: per kWh | G47: 0.157 | H47: =$D$127*$G$19 -> 162000 | I47: =H47*G47 -> 25434 | K47: 0.157 | L47: =$D$127*$G$19 -> 162000 | M47: =L47*K47 -> 25434 | O47: =M47-I47 -> 0 | P47: =IF(OR(I47=0,M47=0),"",(O47/I47)) -> 0
B48: TOU - On Peak | D48: per kWh | G48: 0.203 | H48: =$D$128*$G$19 -> 162000 | I48: =H48*G48 -> 32886 | K48: 0.203 | L48: =$D$128*$G$19 -> 162000 | M48: =L48*K48 -> 32886 | O48: =M48-I48 -> 0 | P48: =IF(OR(I48=0,M48=0),"",(O48/I48)) -> 0
B49: Energy - RPP - Tier 1 | D49: per kWh | G49: 0.12 | H49: =IF(AND($N$1=1, $G$19>=750), 750, IF(AND($N$1=1, AND($G$19<750, $G$19>=0)), $G$19, IF(AND($N$1=2, $G$19>=750), 750, IF(AND($N$1=2, AND($G$19<750, $G$19>=0)), $G$19)))) -> 750 | I49: =H49*G49 -> 90 | K49: 0.12 | L49: =IF(AND($N$1=1, $G$19>=750), 750, IF(AND($N$1=1, AND($G$19<750, $G$19>=0)), $G$19, IF(AND($N$1=2, $G$19>=750), 750, IF(AND($N$1=2, AND($G$19<750, $G$19>=0)), $G$19)))) -> 750 | M49: =L49*K49 -> 90 | O49: =M49-I49 -> 0 | P49: =IF(OR(I49=0,M49=0),"",(O49/I49)) -> 0
B50: Energy - RPP - Tier 2 | D50: per kWh | G50: 0.142 | H50: =IF(AND($N$1=1, $G$19>=750), $G$19-750, IF(AND($N$1=1, AND($G$19<750, $G$19>=0)), 0, IF(AND($N$1=2, $G$19>=750), $G$19-750, IF(AND($N$1=2, AND($G$19<750, $G$19>=0)), 0)))) -> 899250 | I50: =H50*G50 -> 127693.5 | K50: 0.142 | L50: =IF(AND($N$1=1, $G$19>=750), $G$19-750, IF(AND($N$1=1, AND($G$19<750, $G$19>=0)), 0, IF(AND($N$1=2, $G$19>=750), $G$19-750, IF(AND($N$1=2, AND($G$19<750, $G$19>=0)), 0)))) -> 899250 | M50: =L50*K50 -> 127693.5 | O50: =M50-I50 -> 0 | P50: =IF(OR(I50=0,M50=0),"",(O50/I50)) -> 0
B51: Non-RPP Retailer Avg. Price | D51: per kWh | G51: 0.1197 | H51: 0 | I51: =H51*G51 -> 0 | K51: 0.1197 | L51: 0 | M51: =L51*K51 -> 0 | O51: =M51-I51 -> 0 | P51: =IF(OR(I51=0,M51=0),"",(O51/I51))
...

Sheet LARGE USE SERVICE
N1: 1 | U1: 1 | AB1: 1 | AI1: 1
B10: Appendix 2-W
B11: Bill Impacts
B14: Customer Class: | D14: LARGE USE SERVICE
B16: TOU / non-TOU: | D16: non-TOU | G16: SPOT A Non-WMP
G17: 8400 | H17: kW
G18: 9200 | H18: kVA
D19: Consumption | G19: 3900000 | H19: kWh
G20: 2026 OEB-Approved | K20: 2027 Proposed | O20: Impact
D21: Charge Unit | G21: Rate | H21: Volume | I21: Charge | K21: Rate | L21: Volume | M21: Charge | O21: $ Change | P21: % Change
G22: ($) | I22: ($) | K22: ($) | M22: ($)
B23: Service Charge | D23: per 30 days | G23: 4843.52 | H23: 1 | I23: =H23*G23 -> 4843.52 | K23: 4843.52 | L23: 1 | M23: =L23*K23 -> 4843.52 | O23: =M23-I23 -> 0 | P23: =IF(OR(I23=0,M23=0),"",(O23/I23)) -> 0
B24: Rate Rider for Disposition of Wireline Pole Attachment Revenue - effective until December 31, 2029 | D24: per kVA | G24: 0.0038 | H24: =$G$18 -> 9200 | I24: =H24*G24 -> 34.96 | K24: 0.0038 | L24: =$G$18 -> 9200 | M24: =L24*K24 -> 34.96 | O24: =M24-I24 -> 0 | P24: =IF(OR(I24=0,M24=0),"",(O24/I24)) -> 0
B25: Rate Rider for Disposition of Excess Expansion Deposits - effective until December 31, 2029 | D25: per kVA | G25: -0.0414 | H25: =$G$18 -> 9200 | I25: =H25*G25 -> -380.88 | K25: -0.0414 | L25: =$G$18 -> 9200 | M25: =L25*K25 -> -380.88 | O25: =M25-I25 -> 0 | P25: =IF(OR(I25=0,M25=0),"",(O25/I25)) -> 0
B26: Rate Rider for Disposition of Externally Driven Capital Variance Account - effective until December 31, 2029 | D26: per kVA | G26: 0 | H26: =$G$18 -> 9200 | I26: =H26*G26 -> 0 | K26: 0.0307 | L26: =$G$18 -> 9200 | M26: =L26*K26 -> 282.44 | O26: =M26-I26 -> 282.44 | P26: =IF(OR(I26=0,M26=0),"",(O26/I26))
B27: Rate Rider for Disposition of Wireless Pole Attachment Revenue - effective until December 31, 2029 | D27: per kVA | G27: -0.0031 | H27: =$G$18 -> 9200 | I27: =H27*G27 -> -28.52 | K27: -0.0031 | L27: =$G$18 -> 9200 | M27: =L27*K27 -> -28.52 | O27: =M27-I27 -> 0 | P27: =IF(OR(I27=0,M27=0),"",(O27/I27)) -> 0
B28: Rate Rider for Disposition of Change in Useful Life of Asset (2025) - effective until December 31, 2026 | D28: per kVA | G28: -0.2639 | H28: =$G$18 -> 9200 | I28: =H28*G28 -> -2427.88 | K28: 0 | L28: =$G$18 -> 9200 | M28: =L28*K28 -> 0 | O28: =M28-I28 -> 2427.88 | P28: =IF(OR(I28=0,M28=0),"",(O28/I28))
B29: Rate Rider for Disposition of Change in Useful Life of Assets (2025) - effective until December 31, 2028 | D29: per kVA | G29: -0.0638 | H29: =$G$18 -> 9200 | I29: =H29*G29 -> -586.96 | K29: -0.0638 | L29: =$G$18 -> 9200 | M29: =L29*K29 -> -586.96 | O29: =M29-I29 -> 0 | P29: =IF(OR(I29=0,M29=0),"",(O29/I29)) -> 0
B30: Rate Rider for Disposition of Change in Useful Life of Assets (2026) - effective until December 31, 2028 | D30: per kVA | G30: -0.1852 | H30: =$G$18 -> 9200 | I30: =H30*G30 -> -1703.84 | K30: -0.1852 | L30: =$G$18 -> 9200 | M30: =L30*K30 -> -1703.84 | O30: =M30-I30 -> 0 | P30: =IF(OR(I30=0,M30=0),"",(O30/I30)) -> 0
B31: Rate Rider for Disposition of Revenue Variance Account (2025) - effective until December 31, 2027 - Interim | D31: per kVA | G31: 0 | H31: =$G$18 -> 9200 | I31: =H31*G31 -> 0 | K31: -0.2393 | L31: =$G$18 -> 9200 | M31: =L31*K31 -> -2201.56 | O31: =M31-I31 -> -2201.56 | P31: =IF(OR(I31=0,M31=0),"",(O31/I31))
B32: Distribution Volumetric Rate | D32: per kVA | G32: 9.4416 | H32: =$G$18 -> 9200 | I32: =H32*G32 -> 86862.72 | K32: 9.7812 | L32: =$G$18 -> 9200 | M32: =L32*K32 -> 89987.04 | O32: =M32-I32 -> 3124.32 | P32: =IF(OR(I32=0,M32=0),"",(O32/I32)) -> 0.03596848
B33: Sub-Total A (excluding pass through) | I33: =SUM(I23:I32) -> 86613.12 | M33: =SUM(M23:M32) -> 90246.2 | O33: =M33-I33 -> 3633.08 | P33: =IF(OR(I33=0,M33=0),"",(O33/I33)) -> 0.04194607
B34: Line Losses on Cost of Power | D34: per kWh | G34: =G53 -> 0.1197 | H34: =$G19*(1+G66)-$G19 -> 67080 | I34: =H34*G34 -> 8029.476 | K34: =K53 -> 0.1197 | L34: =$G19*(1+K66)-$G19 -> 67080 | M34: =L34*K34 -> 8029.476 | O34: =M34-I34 -> 0 | P34: =IF(OR(I34=0,M34=0),"",(O34/I34)) -> 0
B35: =+RESIDENTIAL!$B$33 -> Rate Rider for Disposition of Deferral/Variance Accounts - effective until December 31, 2027 | D35: per kVA | G35: 0.5237 | H35: =$G$18 -> 9200 | I35: =H35*G35 -> 4818.04 | K35: 0.0136 | L35: =$G$18 -> 9200 | M35: =L35*K35 -> 125.12 | O35: =M35-I35 -> -4692.92 | P35: =IF(OR(I35=0,M35=0),"",(O35/I35)) -> -0.97403093
B36: =+'GS 50-999 kW'!$B$36 -> Rate Rider for Disposition of Deferral/Variance Accounts for Non-Wholesale Market Participants - effective until December 31, 2027 | D36: per kVA | G36: 0.1083 | H36: =$G$18 -> 9200 | I36: =H36*G36 -> 996.36 | K36: -0.4932 | L36: =$G$18 -> 9200 | M36: =L36*K36 -> -4537.44 | O36: =M36-I36 -> -5533.8 | P36: =IF(OR(I36=0,M36=0),"",(O36/I36)) -> -5.5540166
B37: =+RESIDENTIAL!$B$34 -> Rate Rider for Disposition of Capacity Based Recovery Account - Applicable only for Class B Customers - effective until December 31, 2027 | D37: per kVA | G37: 0.1556 | I37: =H37*G37 -> 0 | K37: 0.1744 | M37: =L37*K37 -> 0 | O37: =M37-I37 -> 0 | P37: =IF(OR(I37=0,M37=0),"",(O37/I37))
B38: =+RESIDENTIAL!$B$35 -> Rate Rider for Disposition of Global Adjustment Account - Applicable only for Non-RPP Customers - effective until December 31, 2027 | D38: per kWh | G38: 0.00508 | I38: =H38*G38 -> 0 | K38: -0.00595 | M38: =L38*K38 -> 0 | O38: =M38-I38 -> 0 | P38: =IF(OR(I38=0,M38=0),"",(O38/I38))
B39: Sub-Total B - Distribution (includes Sub-Total A) | I39: =SUM(I34:I38)+I33 -> 100457 | M39: =SUM(M34:M38)+M33 -> 93863.356 | O39: =M39-I39 -> -6593.64 | P39: =IF(OR(I39=0,M39=0),"",(O39/I39)) -> -0.065636444
B40: Retail Transmission Rate - Network Service Rate | D40: per kW | G40: 4.8799 | H40: =+$G$17 -> 8400 | I40: =H40*G40 -> 40991.16 | K40: 4.9705 | L40: =+$G$17 -> 8400 | M40: =L40*K40 -> 41752.2 | O40: =M40-I40 -> 761.04 | P40: =IF(OR(I40=0,M40=0),"",(O40/I40)) -> 0.018565954
B41: Retail Transmission Rate - Line and Transformation Connection Service Rate | D41: per kW | G41: 3.2117 | H41: =+$G$17 -> 8400 | I41: =H41*G41 -> 26978.28 | K41: 3.2597 | L41: =+$G$17 -> 8400 | M41: =L41*K41 -> 27381.48 | O41: =M41-I41 -> 403.2 | P41: =IF(OR(I41=0,M41=0),"",(O41/I41)) -> 0.014945356
B42: Sub-Total C - Delivery (including Sub-Total B) | I42: =SUM(I39:I41) -> 168426.44 | M42: =SUM(M39:M41) -> 162997.04 | O42: =M42-I42 -> -5429.4 | P42: =IF(OR(I42=0,M42=0),"",(O42/I42)) -> -0.032236032
B43: Wholesale Market Service Charge (WMSC) | D43: per kWh | G43: 0.0041 | H43: =+$G19*(1+G66) -> 3967080 | I43: =H43*G43 -> 16265.028 | K43: 0.0041 | L43: =+$G19*(1+K66) -> 3967080 | M43: =L43*K43 -> 16265.028 | O43: =M43-I43 -> 0 | P43: =IF(OR(I43=0,M43=0),"",(O43/I43)) -> 0
B44: Rural and Remote Rate Protection (RRRP) | D44: per kWh | G44: 0.0006 | H44: =+H43 -> 3967080 | I44: =H44*G44 -> 2380.248 | K44: 0.0006 | L44: =+L43 -> 3967080 | M44: =L44*K44 -> 2380.248 | O44: =M44-I44 -> 0 | P44: =IF(OR(I44=0,M44=0),"",(O44/I44)) -> 0
B45: Capacity Based Recovery (CBR) - Applicable for Class B Customers | D45: per kWh | G45: 0.0006 | I45: =H45*G45 -> 0 | K45: 0.0006 | M45: =L45*K45 -> 0 | O45: =M45-I45 -> 0 | P45: =IF(OR(I45=0,M45=0),"",(O45/I45))
B46: Standard Supply Service Charge | D46: per 30 days | G46: 0.25 | H46: 1 | I46: =H46*G46 -> 0.25 | K46: 0.25 | L46: 1 | M46: =L46*K46 -> 0.25 | O46: =M46-I46 -> 0 | P46: =IF(OR(I46=0,M46=0),"",(O46/I46)) -> 0
B47: TOU - Off Peak | D47: per kWh | G47: 0.098 | H47: =$D$68*$G$19 -> 2496000 | I47: =H47*G47 -> 244608 | K47: 0.098 | L47: =$D$68*$G$19 -> 2496000 | M47: =L47*K47 -> 244608 | O47: =M47-I47 -> 0 | P47: =IF(OR(I47=0,M47=0),"",(O47/I47)) -> 0
B48: TOU - Mid Peak | D48: per kWh | G48: 0.157 | H48: =$D$69*$G$19 -> 702000 | I48: =H48*G48 -> 110214 | K48: 0.157 | L48: =$D$69*$G$19 -> 702000 | M48: =L48*K48 -> 110214 | O48: =M48-I48 -> 0 | P48: =IF(OR(I48=0,M48=0),"",(O48/I48)) -> 0
B49: TOU - On Peak | D49: per kWh | G49: 0.203 | H49: =$D$70*$G$19 -> 702000 | I49: =H49*G49 -> 142506 | K49: 0.203 | L49: =$D$70*$G$19 -> 702000 | M49: =L49*K49 -> 142506 | O49: =M49-I49 -> 0 | P49: =IF(OR(I49=0,M49=0),"",(O49/I49)) -> 0
B50: Energy - RPP - Tier 1 | D50: per kWh | G50: 0.12 | H50: =IF(AND($N$1=1, $G19>=750), 750, IF(AND($N$1=1, AND($G19<750, $G19>=0)), $G19, IF(AND($N$1=2, $G19>=750), 750, IF(AND($N$1=2, AND($G19<750, $G19>=0)), $G19)))) -> 750 | I50: =H50*G50 -> 90 | K50: 0.12 | L50: =IF(AND($N$1=1, $G19>=750), 750, IF(AND($N$1=1, AND($G19<750, $G19>=0)), $G19, IF(AND($N$1=2, $G19>=750), 750, IF(AND($N$1=2, AND($G19<750, $G19>=0)), $G19)))) -> 750 | M50: =L50*K50 -> 90 | O50: =M50-I50 -> 0 | P50: =IF(OR(I50=0,M50=0),"",(O50/I50)) -> 0
B51: Energy - RPP - Tier 2 | D51: per kWh | G51: 0.142 | H51: =IF(AND($N$1=1, $G19>=750), $G19-750, IF(AND($N$1=1, AND($G19<750, $G19>=0)), 0, IF(AND($N$1=2, $G19>=750), $G19-750, IF(AND($N$1=2, AND($G19<750, $G19>=0)), 0)))) -> 3899250 | I51: =H51*G51 -> 553693.5 | K51: 0.142 | L51: =IF(AND($N$1=1, $G19>=750), $G19-750, IF(AND($N$1=1, AND($G19<750, $G19>=0)), 0, IF(AND($N$1=2, $G19>=750), $G19-750, IF(AND($N$1=2, AND($G19<750, $G19>=0)), 0)))) -> 3899250 | M51: =L51*K51 -> 553693.5 | O51: =M51-I51 -> 0 | P51: =IF(OR(I51=0,M51=0),"",(O51/I51)) -> 0
...

Sheet STREET LIGHTING SERVICE
N1: 1 | O1: 1 | V1: 1 | W1: 1 | AC1: 1 | AD1: 1 | AJ1: 1 | AK1: 1
B10: Appendix 2-W
B11: Bill Impacts
B14: Customer Class: | D14: STREET LIGHTING SERVICE
G16: SPOT CLASS B
B17: TOU / non-TOU: | D17: non-TOU | G17: 17000 | H17: Devices
G18: 3000 | H18: kW
G19: 3000 | H19: kVA
D20: Consumption | G20: 965000 | H20: kWh
G21: 2026 OEB-Approved | K21: 2027 Proposed | O21: Impact
D22: Charge Unit | G22: Rate | H22: Volume | I22: Charge | K22: Rate | L22: Volume | M22: Charge | O22: $ Change | P22: % Change
G23: ($) | I23: ($) | K23: ($) | M23: ($)
B24: Service Charge (per device) | D24: per device per 30 days | G24: 2.08 | H24: =+$G$17 -> 17000 | I24: =H24*G24 -> 35360 | K24: 2.15 | L24: =+$G$17 -> 17000 | M24: =L24*K24 -> 36550 | O24: =M24-I24 -> 1190 | P24: =IF(OR(I24=0,M24=0),"",(O24/I24)) -> 0.033653846
B25: Distribution Volumetric Rate | D25: per kVA | G25: 46.4488 | H25: =$G$19 -> 3000 | I25: =H25*G25 -> 139346.4 | K25: 48.0994 | L25: =$G$19 -> 3000 | M25: =L25*K25 -> 144298.2 | O25: =M25-I25 -> 4951.8 | P25: =IF(OR(I25=0,M25=0),"",(O25/I25)) -> 0.035535902
B26: Rate Rider for Disposition of Wireline Pole Attachment Revenue - effective until December 31, 2029 | D26: per kVA | G26: 0.4964 | H26: =$G$19 -> 3000 | I26: =H26*G26 -> 1489.2 | K26: 0.4964 | L26: =$G$19 -> 3000 | M26: =L26*K26 -> 1489.2 | O26: =M26-I26 -> 0 | P26: =IF(OR(I26=0,M26=0),"",(O26/I26)) -> 0
B27: Rate Rider for Disposition of Excess Expansion Deposits - effective until December 31, 2029 | D27: per kVA | G27: -0.236 | H27: =$G$19 -> 3000 | I27: =H27*G27 -> -708 | K27: -0.236 | L27: =$G$19 -> 3000 | M27: =L27*K27 -> -708 | O27: =M27-I27 -> 0 | P27: =IF(OR(I27=0,M27=0),"",(O27/I27)) -> 0
B28: Rate Rider for Disposition of Externally Driven Capital Variance Account - effective until December 31, 2029 | D28: per kVA | G28: 0 | H28: =$G$19 -> 3000 | I28: =H28*G28 -> 0 | K28: 0.1748 | L28: =$G$19 -> 3000 | M28: =L28*K28 -> 524.4 | O28: =M28-I28 -> 524.4 | P28: =IF(OR(I28=0,M28=0),"",(O28/I28))
B29: Rate Rider for Disposition of Wireless Pole Attachment Revenue - effective until December 31, 2029 | D29: per kVA | G29: -0.4099 | H29: =$G$19 -> 3000 | I29: =H29*G29 -> -1229.7 | K29: -0.4099 | L29: =$G$19 -> 3000 | M29: =L29*K29 -> -1229.7 | O29: =M29-I29 -> 0 | P29: =IF(OR(I29=0,M29=0),"",(O29/I29)) -> 0
B30: Rate Rider for Disposition of Change in Useful Life of Asset (2025) - effective until December 31, 2026 | D30: per kVA | G30: -1.5037 | H30: =$G$19 -> 3000 | I30: =H30*G30 -> -4511.1 | K30: 0 | L30: =$G$19 -> 3000 | M30: =L30*K30 -> 0 | O30: =M30-I30 -> 4511.1 | P30: =IF(OR(I30=0,M30=0),"",(O30/I30))
B31: Rate Rider for Disposition of Change in Useful Life of Assets (2025) - effective until December 31, 2028 | D31: per kVA | G31: -0.3634 | H31: =$G$19 -> 3000 | I31: =H31*G31 -> -1090.2 | K31: -0.3634 | L31: =$G$19 -> 3000 | M31: =L31*K31 -> -1090.2 | O31: =M31-I31 -> 0 | P31: =IF(OR(I31=0,M31=0),"",(O31/I31)) -> 0
B32: Rate Rider for Disposition of Change in Useful Life of Assets (2026) - effective until December 31, 2028 | D32: per kVA | G32: -1.0551 | H32: =$G$19 -> 3000 | I32: =H32*G32 -> -3165.3 | K32: -1.0551 | L32: =$G$19 -> 3000 | M32: =L32*K32 -> -3165.3 | O32: =M32-I32 -> 0 | P32: =IF(OR(I32=0,M32=0),"",(O32/I32)) -> 0
B33: Rate Rider for Disposition of Revenue Variance Account (2025) - effective until December 31, 2027 - Interim | D33: per kVA | G33: 0 | H33: =$G$19 -> 3000 | I33: =H33*G33 -> 0 | K33: -1.2354 | L33: =$G$19 -> 3000 | M33: =L33*K33 -> -3706.2 | O33: =M33-I33 -> -3706.2 | P33: =IF(OR(I33=0,M33=0),"",(O33/I33))
B34: Sub-Total A (excluding pass through) | I34: =SUM(I24:I33) -> 165491.3 | M34: =SUM(M24:M33) -> 172962.4 | O34: =M34-I34 -> 7471.1 | P34: =IF(OR(I34=0,M34=0),"",(O34/I34)) -> 0.045144971
B35: Line Losses on Cost of Power | D35: per kWh | G35: =G53 -> 0.1197 | H35: =$G$20*(1+G66)-$G$20 -> 28467.5 | I35: =H35*G35 -> 3407.5598 | K35: =K53 -> 0.1197 | L35: =$G$20*(1+K66)-$G$20 -> 28467.5 | M35: =L35*K35 -> 3407.5598 | O35: =M35-I35 -> 0 | P35: =IF(OR(I35=0,M35=0),"",(O35/I35)) -> 0
B36: =+RESIDENTIAL!$B$33 -> Rate Rider for Disposition of Deferral/Variance Accounts - effective until December 31, 2027 | D36: per kVA | G36: 0.2222 | H36: =$G$19 -> 3000 | I36: =H36*G36 -> 666.6 | K36: -0.3512 | L36: =$G$19 -> 3000 | M36: =L36*K36 -> -1053.6 | O36: =M36-I36 -> -1720.2 | P36: =IF(OR(I36=0,M36=0),"",(O36/I36)) -> -2.5805581
B37: =+RESIDENTIAL!$B$34 -> Rate Rider for Disposition of Capacity Based Recovery Account - Applicable only for Class B Customers - effective until December 31, 2027 | D37: per kVA | G37: 0.1656 | H37: =$G$19 -> 3000 | I37: =H37*G37 -> 496.8 | K37: 0.1794 | L37: =$G$19 -> 3000 | M37: =L37*K37 -> 538.2 | O37: =M37-I37 -> 41.4 | P37: =IF(OR(I37=0,M37=0),"",(O37/I37)) -> 0.083333333
B38: =+RESIDENTIAL!$B$35 -> Rate Rider for Disposition of Global Adjustment Account - Applicable only for Non-RPP Customers - effective until December 31, 2027 | D38: per kWh | G38: 0.00508 | H38: =+$G$20 -> 965000 | I38: =H38*G38 -> 4902.2 | K38: -0.00595 | L38: =+$G$20 -> 965000 | M38: =L38*K38 -> -5741.75 | O38: =M38-I38 -> -10643.95 | P38: =IF(OR(I38=0,M38=0),"",(O38/I38)) -> -2.1712598
B39: Sub-Total B - Distribution (includes Sub-Total A) | I39: =SUM(I35:I38)+I34 -> 174964.46 | M39: =SUM(M35:M38)+M34 -> 170112.81 | O39: =M39-I39 -> -4851.65 | P39: =IF(OR(I39=0,M39=0),"",(O39/I39)) -> -0.027729346
B40: Retail Transmission Rate - Network Service Rate | D40: per kW | G40: 3.9409 | H40: =+$G$18 -> 3000 | I40: =H40*G40 -> 11822.7 | K40: 4.0141 | L40: =+$G$18 -> 3000 | M40: =L40*K40 -> 12042.3 | O40: =M40-I40 -> 219.6 | P40: =IF(OR(I40=0,M40=0),"",(O40/I40)) -> 0.018574437
B41: Retail Transmission Rate - Line and Transformation Connection Service Rate | D41: per kW | G41: 3.4502 | H41: =+$G$18 -> 3000 | I41: =H41*G41 -> 10350.6 | K41: 3.5018 | L41: =+$G$18 -> 3000 | M41: =L41*K41 -> 10505.4 | O41: =M41-I41 -> 154.8 | P41: =IF(OR(I41=0,M41=0),"",(O41/I41)) -> 0.014955655
